BEGIN:VCALENDAR
VERSION:2.0
PRODID:-//HSMAI Americas - ECPv6.15.20//NONSGML v1.0//EN
CALSCALE:GREGORIAN
METHOD:PUBLISH
X-ORIGINAL-URL:https://americas.hsmai.org
X-WR-CALDESC:Events for HSMAI Americas
REFRESH-INTERVAL;VALUE=DURATION:PT1H
X-Robots-Tag:noindex
X-PUBLISHED-TTL:PT1H
BEGIN:VTIMEZONE
TZID:America/New_York
BEGIN:DAYLIGHT
TZOFFSETFROM:-0500
TZOFFSETTO:-0400
TZNAME:EDT
DTSTART:20250309T070000
END:DAYLIGHT
BEGIN:STANDARD
TZOFFSETFROM:-0400
TZOFFSETTO:-0500
TZNAME:EST
DTSTART:20251102T060000
END:STANDARD
BEGIN:DAYLIGHT
TZOFFSETFROM:-0500
TZOFFSETTO:-0400
TZNAME:EDT
DTSTART:20260308T070000
END:DAYLIGHT
BEGIN:STANDARD
TZOFFSETFROM:-0400
TZOFFSETTO:-0500
TZNAME:EST
DTSTART:20261101T060000
END:STANDARD
BEGIN:DAYLIGHT
TZOFFSETFROM:-0500
TZOFFSETTO:-0400
TZNAME:EDT
DTSTART:20270314T070000
END:DAYLIGHT
BEGIN:STANDARD
TZOFFSETFROM:-0400
TZOFFSETTO:-0500
TZNAME:EST
DTSTART:20271107T060000
END:STANDARD
END:VTIMEZONE
BEGIN:VTIMEZONE
TZID:UTC
BEGIN:STANDARD
TZOFFSETFROM:+0000
TZOFFSETTO:+0000
TZNAME:UTC
DTSTART:20240101T000000
END:STANDARD
END:VTIMEZONE
BEGIN:VEVENT
DTSTART;TZID=America/New_York:20260325T150000
DTEND;TZID=America/New_York:20260325T163000
DTSTAMP:20260421T073834
CREATED:20260312T094716Z
LAST-MODIFIED:20260312T094757Z
UID:12788-1774450800-1774456200@americas.hsmai.org
SUMMARY:
DESCRIPTION:[vc_row][vc_column][vc_column_text css=””]Join Alon Tourism Solutions\, Destinations International\, and the International Inbound Travel Association for this FIFA World Cup International Readiness Training – preparing host cities\, base camp destinations\, and surrounding communities for the 2026 Global Football Tournament.  Two time options (session repeats): Wednesday\, March 25 – 11am to 12:30pmET and 3pm to 4:30pmET.[/vc_column_text][/vc_column][/vc_row][vc_row][vc_column][vc_single_image image=”12789″ img_size=”full” onclick=”custom_link” img_link_target=”_blank” link=”https://us02web.zoom.us/meeting/register/XmoX4L27R0GVHJVXl-PsJA#/registration”][/vc_column][/vc_row]
URL:https://americas.hsmai.org/event/12788/
CATEGORIES:Events
LOCATION:
END:VEVENT
BEGIN:VEVENT
DTSTART;TZID=America/New_York:20260325T110000
DTEND;TZID=America/New_York:20260325T123000
DTSTAMP:20260421T073834
CREATED:20260312T093249Z
LAST-MODIFIED:20260312T095310Z
UID:12784-1774436400-1774441800@americas.hsmai.org
SUMMARY:FIFA International Readiness Training
DESCRIPTION:[vc_row][vc_column][vc_column_text css=””]Join Alon Tourism Solutions\, Destinations International\, and the International Inbound Travel Association for this FIFA World Cup International Readiness Training – preparing host cities\, base camp destinations\, and surrounding communities for the 2026 Global Football Tournament.  Two time options (session repeats): Wednesday\, March 25 – 11am to 12:30pmET and 3pm to 4:30pmET.[/vc_column_text][vc_single_image image=”12785″ img_size=”full” onclick=”custom_link” img_link_target=”_blank” css=”” link=”https://us02web.zoom.us/meeting/register/YJu0HmzQRK6i-RTbGm8tOw#/registration”][/vc_column][/vc_row][vc_row][vc_column][/vc_column][/vc_row]
URL:https://americas.hsmai.org/event/fifa-international-readiness-training/2026-03-25/
CATEGORIES:Events
LOCATION:
END:VEVENT
BEGIN:VEVENT
DTSTART;VALUE=DATE:20260408
DTEND;VALUE=DATE:20260409
DTSTAMP:20260421T073834
CREATED:20260311T222230Z
LAST-MODIFIED:20260319T223806Z
UID:12782-1775606400-1775692799@americas.hsmai.org
SUMMARY:Southern Colorado-The State of the Sprin
DESCRIPTION:
URL:https://americas.hsmai.org/event/southern-colorado-the-state-of-the-sprin/
LOCATION:Colorado Springs\, CO\, United States
CATEGORIES:Chapterevents
GEO:38.861469;-104.857828
END:VEVENT
BEGIN:VEVENT
DTSTART;VALUE=DATE:20260325
DTEND;VALUE=DATE:20260326
DTSTAMP:20260421T073834
CREATED:20260224T195205Z
LAST-MODIFIED:20260319T223805Z
UID:12738-1774396800-1774483199@americas.hsmai.org
SUMMARY:Central FL - 2026 March Education
DESCRIPTION:
URL:https://americas.hsmai.org/event/central-fl-2026-march-education/
LOCATION:Orlando\, FL\, United States
GEO:28.545179;-81.373291
END:VEVENT
BEGIN:VEVENT
DTSTART;VALUE=DATE:20260310
DTEND;VALUE=DATE:20260311
DTSTAMP:20260421T073834
CREATED:20260223T195318Z
LAST-MODIFIED:20260309T215507Z
UID:12736-1773100800-1773187199@americas.hsmai.org
SUMMARY:Mid-South-Booking the Business: What Mee
DESCRIPTION:
URL:https://americas.hsmai.org/event/mid-south-booking-the-business-what-mee/
LOCATION:Memphis\, TN\, United States
CATEGORIES:Chapterevents
GEO:35.169255;-89.990415
END:VEVENT
BEGIN:VEVENT
DTSTART;VALUE=DATE:20260309
DTEND;VALUE=DATE:20260310
DTSTAMP:20260421T073834
CREATED:20260217T233903Z
LAST-MODIFIED:20260308T214057Z
UID:12720-1773014400-1773100799@americas.hsmai.org
SUMMARY:Boston-Boston Lodging Market Forecast 20
DESCRIPTION:
URL:https://americas.hsmai.org/event/boston-boston-lodging-market-forecast-20/
LOCATION:Boston\, MA\, United States
CATEGORIES:Chapterevents
GEO:42.370567;-71.026964
END:VEVENT
BEGIN:VEVENT
DTSTART;VALUE=DATE:20260227
DTEND;VALUE=DATE:20260228
DTSTAMP:20260421T073834
CREATED:20260216T233802Z
LAST-MODIFIED:20260226T195521Z
UID:12718-1772150400-1772236799@americas.hsmai.org
SUMMARY:Missouri-From Viral Campaign to Sales St
DESCRIPTION:
URL:https://americas.hsmai.org/event/missouri-from-viral-campaign-to-sales-st/
LOCATION:St. Louis\, MO
CATEGORIES:Chapterevents
END:VEVENT
BEGIN:VEVENT
DTSTART;VALUE=DATE:20260226
DTEND;VALUE=DATE:20260227
DTSTAMP:20260421T073834
CREATED:20260210T224006Z
LAST-MODIFIED:20260225T195430Z
UID:12689-1772064000-1772150399@americas.hsmai.org
SUMMARY:Austin-Behind the Curtain\, Austin\u2019s Ente
DESCRIPTION:
URL:https://americas.hsmai.org/event/austin-behind-the-curtain-austinu2019s-ente/
LOCATION:Austin\, TX
CATEGORIES:Chapterevents
END:VEVENT
BEGIN:VEVENT
DTSTART;TZID=America/New_York:20260219T113000
DTEND;TZID=America/New_York:20260219T140000
DTSTAMP:20260421T073834
CREATED:20260209T145611Z
LAST-MODIFIED:20260209T145828Z
UID:12684-1771500600-1771509600@americas.hsmai.org
SUMMARY:World Cup Marketing Treads: What FIFA Means for Your Demand Strategy
DESCRIPTION:[vc_row][vc_column][vc_column_text]World Cup Marketing Treads: What FIFA Means for Your Demand Strategy\nPresented by: The HSMAI Greater New York Chapter\n11:30am – 2:00pm\nPlanet Hollywood\n136 West 42nd Street (between 6th and 7th)[/vc_column_text][/vc_column][/vc_row]
URL:https://americas.hsmai.org/event/world-cup-marketing-treads-what-fifa-means-for-your-demand-strategy/
END:VEVENT
BEGIN:VEVENT
DTSTART;VALUE=DATE:20260416
DTEND;VALUE=DATE:20260417
DTSTAMP:20260421T073834
CREATED:20260206T215408Z
LAST-MODIFIED:20260319T223806Z
UID:12681-1776297600-1776383999@americas.hsmai.org
SUMMARY:Missouri-5th Annual 4-Person Scramble (9
DESCRIPTION:
URL:https://americas.hsmai.org/event/missouri-5th-annual-4-person-scramble-9/
LOCATION:St. Louis\, MO
CATEGORIES:Chapterevents
END:VEVENT
BEGIN:VEVENT
DTSTART;VALUE=DATE:20260225
DTEND;VALUE=DATE:20260226
DTSTAMP:20260421T073834
CREATED:20260203T210929Z
LAST-MODIFIED:20260224T195209Z
UID:12674-1771977600-1772063999@americas.hsmai.org
SUMMARY:DC Business Development Workshop
DESCRIPTION:
URL:https://americas.hsmai.org/event/business-development-workshop/
LOCATION:Washington\,
END:VEVENT
BEGIN:VEVENT
DTSTART;VALUE=DATE:20260131
DTEND;VALUE=DATE:20260201
DTSTAMP:20260421T073834
CREATED:20260129T202346Z
LAST-MODIFIED:20260130T202611Z
UID:12665-1769817600-1769903999@americas.hsmai.org
SUMMARY:HSMAI San Diego: 2026 Kickoff Coastal We
DESCRIPTION:
URL:https://americas.hsmai.org/event/hsmai-san-diego-2026-kickoff-coastal-we/
LOCATION:La Jolla\, CA
CATEGORIES:Chapterevents
END:VEVENT
BEGIN:VEVENT
DTSTART;VALUE=DATE:20260210
DTEND;VALUE=DATE:20260211
DTSTAMP:20260421T073834
CREATED:20260129T202346Z
LAST-MODIFIED:20260209T222533Z
UID:12666-1770681600-1770767999@americas.hsmai.org
SUMMARY:Cracking the Top 5 Commercial Strategy B
DESCRIPTION:
URL:https://americas.hsmai.org/event/cracking-the-top-5-commercial-strategy-b/
LOCATION:San Diego\, CA\, United States
CATEGORIES:Chapterevents
GEO:32.724103;-117.170912
END:VEVENT
BEGIN:VEVENT
DTSTART;VALUE=DATE:20260225
DTEND;VALUE=DATE:20260226
DTSTAMP:20260421T073834
CREATED:20260127T201000Z
LAST-MODIFIED:20260224T195209Z
UID:12657-1771977600-1772063999@americas.hsmai.org
SUMMARY:Central FL - 2026 February Education
DESCRIPTION:
URL:https://americas.hsmai.org/event/central-fl-2026-february-education/
LOCATION:Orlando\, FL\, United States
GEO:28.545179;-81.373291
END:VEVENT
BEGIN:VEVENT
DTSTART;VALUE=DATE:20260305
DTEND;VALUE=DATE:20260306
DTSTAMP:20260421T073834
CREATED:20260127T201000Z
LAST-MODIFIED:20260304T210756Z
UID:12658-1772668800-1772755199@americas.hsmai.org
SUMMARY:HSMAI Las Vegas: Global to Local:
DESCRIPTION:Economic Trends Shaping Las Vegas: Current Market Realities and Whatu2019s Ahead for Hospitality
URL:https://americas.hsmai.org/event/hsmai-las-vegas-global-to-local-econom/
LOCATION:Las Vegas\, NV\, United States
GEO:36.301068;-115.206969
END:VEVENT
BEGIN:VEVENT
DTSTART;VALUE=DATE:20260211
DTEND;VALUE=DATE:20260212
DTSTAMP:20260421T073834
CREATED:20260127T200959Z
LAST-MODIFIED:20260210T224005Z
UID:12656-1770768000-1770854399@americas.hsmai.org
SUMMARY:Boston-A Conversation with Meet Boston:
DESCRIPTION:
URL:https://americas.hsmai.org/event/boston-a-conversation-with-meet-boston/
LOCATION:Boston\, MA\, United States
CATEGORIES:Chapterevents
GEO:42.370567;-71.026964
END:VEVENT
BEGIN:VEVENT
DTSTART;VALUE=DATE:20260226
DTEND;VALUE=DATE:20260227
DTSTAMP:20260421T073834
CREATED:20260115T212301Z
LAST-MODIFIED:20260225T195430Z
UID:12635-1772064000-1772150399@americas.hsmai.org
SUMMARY:SoCo - Elevate & Connect at RYZE Skyline
DESCRIPTION:
URL:https://americas.hsmai.org/event/soco-elevate-connect-at-ryze-skyline/
LOCATION:Colorado Springs\, CO\, United States
CATEGORIES:Chapterevents
GEO:38.861469;-104.857828
END:VEVENT
BEGIN:VEVENT
DTSTART;VALUE=DATE:20260217
DTEND;VALUE=DATE:20260220
DTSTAMP:20260421T073834
CREATED:20260115T182616Z
LAST-MODIFIED:20260126T173124Z
UID:12633-1771286400-1771545599@americas.hsmai.org
SUMMARY:NYC Commercial Strategy Hospitality Week
DESCRIPTION:[vc_row][vc_column][vc_column_text css=””]HSMAI is heading to New York City this February for a series of workshops\, meetings\, and celebrations. We’re honoring this year’s class of Top 25 and the Adrian Awards winners – the best of the best in Travel Marketing.\nDetails below – join us as we gather to celebrate commercial strategy in hospitality! \nTuesday\, February 17\nHSMAI Foundation Board of Directors Dinner (invitation only) \nWednesday\, February 18\nHSMAI Foundation Board of Directors Meeting\nExecutive Committee of HSMAI Americas Meeting – Day 1\n3:30 – 4:30 Top 25 Reception (invitation only) \nAdrian Awards Ceremony – Celebrating the Best of Travel Marketing\nNew York Marriott Marquis – 1535 Broadway\, New York City\, NY 10036\n3:00 – 5:30 – Registration\n4:30 – 5:30 – Red Carpet Arrivals\n5:30 – 7:00 – Awards Ceremony\n7:00 – 9:00 – Dinner Reception\nClick here for Adrian Awards tickets \n(early bird tickets available until January 28th) \nThursday\, February 19 –\nExecutive Committee of the Americas Board Meeting – Day 2\nMarketing Executive Roundtable\, Hotel Management Companies and Brands – (invitation only) \nA room block is available at the New York Marriott Marquis – 1535 Broadway\, New York City\, NY 10036\nReservation Deadline: January 28\, 2026[/vc_column_text][/vc_column][/vc_row]
URL:https://americas.hsmai.org/event/nyc-hospitality-week/
LOCATION:New York\, NY\, United States
CATEGORIES:Events
GEO:40.714269;-74.005973
END:VEVENT
BEGIN:VEVENT
DTSTART;VALUE=DATE:20260121
DTEND;VALUE=DATE:20260122
DTSTAMP:20260421T073834
CREATED:20260113T212642Z
LAST-MODIFIED:20260120T215307Z
UID:12631-1768953600-1769039999@americas.hsmai.org
SUMMARY:HSMAI BC - Beyond the Hype: A Practical
DESCRIPTION:Overview Join us on January 21st for our online webinar featuring Josh Graham\, Head of Market Development\, North America at Cloudbeds! HSMAI BC Presents (online):   Beyond the Hype: A Practical Guide to AI Readiness for Hotels A webinar with Josh from Clo
URL:https://americas.hsmai.org/event/hsmai-bc-beyond-the-hype-a-practical/
LOCATION:Online Web Series\, AA
END:VEVENT
BEGIN:VEVENT
DTSTART;VALUE=DATE:20260305
DTEND;VALUE=DATE:20260306
DTSTAMP:20260421T073834
CREATED:20260107T203904Z
LAST-MODIFIED:20260304T210756Z
UID:12618-1772668800-1772755199@americas.hsmai.org
SUMMARY:The Pipeline You Never See
DESCRIPTION:Most hospitality sellers and vendors think pipeline is created through outreach\, brand reputation\, relationships\, and RFPs. Not entirely wrong\, but a massive shift is happening that most don’t know about!
URL:https://americas.hsmai.org/event/the-pipeline-you-never-see/
LOCATION:Denver\, CO
CATEGORIES:Chapterevents
END:VEVENT
BEGIN:VEVENT
DTSTART;VALUE=DATE:20260129
DTEND;VALUE=DATE:20260130
DTSTAMP:20260421T073834
CREATED:20260107T203903Z
LAST-MODIFIED:20260127T200959Z
UID:12617-1769644800-1769731199@americas.hsmai.org
SUMMARY:The Future of Profitability: Navigating
DESCRIPTION:Unlock the strategies that will define the next era of hotel profitability.
URL:https://americas.hsmai.org/event/revenue-management-summit/
LOCATION:Denver\, CO
CATEGORIES:Chapterevents
END:VEVENT
BEGIN:VEVENT
DTSTART;VALUE=DATE:20260121
DTEND;VALUE=DATE:20260122
DTSTAMP:20260421T073834
CREATED:20251231T194032Z
LAST-MODIFIED:20260120T215307Z
UID:12601-1768953600-1769039999@americas.hsmai.org
SUMMARY:Austin-Navigating the State of Hospitali
DESCRIPTION:
URL:https://americas.hsmai.org/event/austin-navigating-the-state-of-hospitali/
LOCATION:Pflugerville\, TX
CATEGORIES:Chapterevents
END:VEVENT
BEGIN:VEVENT
DTSTART;VALUE=DATE:20260113
DTEND;VALUE=DATE:20260114
DTSTAMP:20260421T073834
CREATED:20251231T194031Z
LAST-MODIFIED:20260112T212325Z
UID:12599-1768262400-1768348799@americas.hsmai.org
SUMMARY:Mid-South-Personal Development - Vision\,
DESCRIPTION:
URL:https://americas.hsmai.org/event/mid-south-personal-development-vision/
LOCATION:Germantown\, TN
CATEGORIES:Chapterevents
END:VEVENT
BEGIN:VEVENT
DTSTART;TZID=America/New_York:20260116T130000
DTEND;TZID=America/New_York:20260116T140000
DTSTAMP:20260421T073834
CREATED:20251219T144932Z
LAST-MODIFIED:20251219T145146Z
UID:12584-1768568400-1768572000@americas.hsmai.org
SUMMARY:Cracking the Code: Navigating Hospitality’s Distribution Maze
DESCRIPTION:HSMAI Foundation & HSMAI are kicking off a faculty-focused webinar series featuring top industry leaders. Join Sarah Fults (VP of Distribution\, MGM Resorts) and Rhett Hirko (SVP of Revenue Optimization & Distribution\, Preferred Travel Group) as they unpack the challenges of hotel distribution\, from AI and online booking tools to managing B2B rates and margins.\n\n\nSarah Fults brings 30 years of hospitality experience and leads distribution strategy at MGM Resorts\, driving tech innovation and channel optimization.\n\n\nRhett Hirko\, a certified revenue management executive with 30+ years in the field\, has shaped global revenue strategies.\n\n\nRegister link: Meeting Registration – Zoom
URL:https://americas.hsmai.org/event/cracking-the-code-navigating-hospitalitys-distribution-maze/
END:VEVENT
BEGIN:VEVENT
DTSTART;VALUE=DATE:20251211
DTEND;VALUE=DATE:20251212
DTSTAMP:20260421T073834
CREATED:20251201T202621Z
LAST-MODIFIED:20251210T212354Z
UID:12554-1765411200-1765497599@americas.hsmai.org
SUMMARY:DC Holiday Event
DESCRIPTION:
URL:https://americas.hsmai.org/event/dc-holiday-event/
LOCATION:Washington\, DC\, United States
GEO:38.895112;-77.036366
END:VEVENT
BEGIN:VEVENT
DTSTART;VALUE=DATE:20251209
DTEND;VALUE=DATE:20251210
DTSTAMP:20260421T073834
CREATED:20251201T202620Z
LAST-MODIFIED:20251208T212326Z
UID:12553-1765238400-1765324799@americas.hsmai.org
SUMMARY:San Diego: Merry Mingles: Holiday Bingo
DESCRIPTION:
URL:https://americas.hsmai.org/event/san-diego-merry-mingles-holiday-bingo/
LOCATION:San Diego\, CA\, United States
CATEGORIES:Chapterevents
GEO:32.724103;-117.170912
END:VEVENT
BEGIN:VEVENT
DTSTART;VALUE=DATE:20251211
DTEND;VALUE=DATE:20251212
DTSTAMP:20260421T073834
CREATED:20251118T235530Z
LAST-MODIFIED:20251210T212353Z
UID:12528-1765411200-1765497599@americas.hsmai.org
SUMMARY:Hawaii - Holiday Pau Hana
DESCRIPTION:
URL:https://americas.hsmai.org/event/hawaii-holiday-event/
LOCATION:Honolulu\, HI\, United States
CATEGORIES:Chapterevents
GEO:24.859832;-168.021815
END:VEVENT
BEGIN:VEVENT
DTSTART;VALUE=DATE:20251211
DTEND;VALUE=DATE:20251212
DTSTAMP:20260421T073834
CREATED:20251114T231129Z
LAST-MODIFIED:20251210T212354Z
UID:12511-1765411200-1765497599@americas.hsmai.org
SUMMARY:Atlanta Hospitality Trends
DESCRIPTION:Atlanta Hospitality Trends
URL:https://americas.hsmai.org/event/atlanta-hospitality-trends/
LOCATION:Dunwoody\, GA
END:VEVENT
BEGIN:VEVENT
DTSTART;TZID=America/New_York:20260317T080000
DTEND;TZID=America/New_York:20260318T170000
DTSTAMP:20260421T073834
CREATED:20251113T172311Z
LAST-MODIFIED:20260312T093935Z
UID:12504-1773734400-1773853200@americas.hsmai.org
SUMMARY:HSMAI Mike Leven Leadership Conference
DESCRIPTION:[vc_row][vc_column][vc_column_text css=””]The HSMAI Mike Leven Leadership Conference is an exclusive\, invitation-only event for chapter leaders in the Americas Region hosted by the  HSMAI Foundation and supported by the Michael and Andrea Leven Foundation.\nThis year’s event is also supported by Ideas Collide.[/vc_column_text][/vc_column][/vc_row]
URL:https://americas.hsmai.org/event/hsmai-mike-leven-leadership-conference/
LOCATION:Sheraton Gateway Los Angeles Hotel | Los Angeles\, CA\, CA
END:VEVENT
BEGIN:VEVENT
DTSTART;VALUE=DATE:20251210
DTEND;VALUE=DATE:20251211
DTSTAMP:20260421T073834
CREATED:20251105T212257Z
LAST-MODIFIED:20251209T212427Z
UID:12487-1765324800-1765411199@americas.hsmai.org
SUMMARY:HSMAI Greater Denver Awards Ceremony
DESCRIPTION:
URL:https://americas.hsmai.org/event/hsmai-greater-denver-awards-show/
LOCATION:Denver\, CO
END:VEVENT
END:VCALENDAR